BEGIN:VCALENDAR
VERSION:2.0
PRODID:-//https://eruuf.org///NONSGML kigkonsult.se iCalcreator 2.10.15//
METHOD:PUBLISH
BEGIN:VEVENT
UID:20260423T204144UTC-3998TNlzZE@https://eruuf.org/
DTSTAMP:20260423T204144Z
DESCRIPTION:\nOur first Sustainable Living Fair with talks by experts in va
 rious domains of sustainable living. Topics include waste reduction\, elec
 tric vehicle ownership\, cohousing\, tiny homes\, and residential solar po
 wer 101. Keynote topic on socially and environmentally responsible investi
 ng will be delivered by Pete Krull\, CEO & Director of Investments for Ear
 th Advisors located in Asheville\, NC. $10 lunch donation requested. Conta
 ct: Denise Frizzell\, deniseaf8@gmail.com. Please register by Monday\, Apr
 il 22\, 2019. \nThe lunch registration deadline for this event has passed.
  You may still register and attend this event\, but please make lunch plan
 s as we cannot guarantee lunch for people who registered after 4/22.\nRegi
 ster\nSchedule of Events \n9:00 - 9:30: Registration & Networking\n9:30 - 
 10:30 SUSTAINABLE HOUSING \n                     - Co-housing: Alice Alexa
 nder\, Durham Central Park Cohousing resident and former National Director
  of Cohousing USA\, and Jim McCrae\, founding member of Bull City Commons.
  \n                     - Tiny Homes: Dick Hails\, founding member of Smal
 l Homes ERUUF\n10:30 - 10:45: Break & visit with presenters \n10:45 - 11:4
 5: Social & Environmentally Responsible Investing by Pete Krull\, CEO & Di
 rector of Investments\, Earth Equity Advisors (Asheville\, NC). \n11:45 - 
 12:30: Plant-based lunch catered by Vimala's Curryblossom Cafe ($10 donati
 on requested) \n 12:30 - 1:30: WASTE REDUCTION\n                        - 
 Bryant Holsenbeck\, author of 'The Last Straw: A Continuing Quest for Life
  without Disposable Plastic' \n                        - Muriel William\, 
 Asst of Solid Waste Management\, City of Durham\n1:30 - 1:45: Break & Visi
 t with presenters \n 1:45 - 2:45: THE CLEAN ENERGY TRANSITION\n           
              - Elective Vehicle Ownership 101 by Clark Slagle\, Founder & 
 CEO\, The Sustainability League \n                        -  Residential S
 olar 101: Stew Miller\, Cofounder and President\, Yes Solar Solutions \n2:
 45- 3:00: Wrap up & final visit with presenters  \n3:00- 3:30: Clean-up!  
 \n\nSee all Earth & Climate Justice Month Activities >>\n\n https://eruuf.
 org/calendar/calendar-view/event/6011-earth-climate-justice-month-sustaina
 ble-living-fair.html
DTSTART:20190427T130000Z
DTEND:20190427T190000Z
LOCATION:Fellowship Hall   ()
SUMMARY:Earth & Climate Justice Month: Sustainable Living Fair
URL:https://eruuf.org/calendar/calendar-view/event/6011-earth-climate-justi
 ce-month-sustainable-living-fair.html
END:VEVENT
END:VCALENDAR
