BEGIN:VCALENDAR
VERSION:2.0
PRODID:-//https://eruuf.org///NONSGML kigkonsult.se iCalcreator 2.10.15//
METHOD:PUBLISH
BEGIN:VEVENT
UID:20260424T175549UTC-1791vU4LGv@https://eruuf.org/
DTSTAMP:20260424T175549Z
DESCRIPTION:Looking for ways YOU CAN ACT immediately to lower your carbon f
 ootprint? We invite you to join the ERUUF Team in the NWEI Drawdown EcoCha
 llenge\, a 21-day engagement program focused on carbon reduction. This Eco
 Challenge connects your actions with the Top 100 Solutions to global warmi
 ng highlighted by Project Drawdown based on scientific research. Participa
 nts track and share their progress on a robust but easy to use online plat
 form\, earning points for taking action. The Drawdown EcoChallenge provide
 s tools and inspiration to turn intention into action. offering over 80 ac
 tions within seven challenge categories to give participants fun and socia
 l ways to think about and act on proven solutions to reverse global warmin
 g. To join the ERUUF team\, register below! Questions\, contact Tom Fletch
 er. \nRegister\n \nSee all Earth & Climate Justice Month activities >> htt
 ps://eruuf.org/calendar/calendar-view/event/6012-earth-climate-justice-mon
 th-nw-earth-institute-s-eco-challenge.html
DTSTART:20190403T040000Z
DTEND:20190424T040000Z
LOCATION:ERUUF Campus   (4907 Garrett Rd\, Durham\, NC 27707    )
SUMMARY:Earth & Climate Justice Month: NW Earth Institute's Eco-Challenge
URL:https://eruuf.org/calendar/calendar-view/event/6012-earth-climate-justi
 ce-month-nw-earth-institute-s-eco-challenge.html
END:VEVENT
END:VCALENDAR
