BEGIN:VCALENDAR
VERSION:2.0
PRODID:-//https://eruuf.org///NONSGML kigkonsult.se iCalcreator 2.10.15//
METHOD:PUBLISH
BEGIN:VEVENT
UID:20260424T142350UTC-1133WpG1SE@https://eruuf.org/
DTSTAMP:20260424T142350Z
DESCRIPTION:\n \n Plant-Based Eating Week takes place 4/22 - 4/28 and is pa
 rt of the 2019 Earth and Climate Justice Month at ERUUF. Join the increasi
 ng number of ERUUFians who actively choose to live more sustainably and ha
 rmoniously with our interdependent web through practical actions. Particip
 ate in the following events during Plant-Based Eating Week: \nMonday\, Apr
 il 22: Vegan Potluck Supper & Presentations \nWednesday\, April 24: Talk &
  Demo - Cooking & Shopping Vegan \nSaturday\, April 27: Sustainable Living
  Fair\nSunday\, April 28: Earth Day Feast & Celebration \n \nSee all Earth
  & Climate Justice Month Activities >> https://eruuf.org/calendar/calendar
 -view/event/6034-earth-climate-justice-month-plant-based-diet-week.html
DTSTART:20190422T040000Z
DTEND:20190428T040000Z
LOCATION:ERUUF Campus   (4907 Garrett Rd\, Durham\, NC 27707    )
SUMMARY:Earth & Climate Justice Month: Plant-Based Diet Week
URL:https://eruuf.org/calendar/calendar-view/event/6034-earth-climate-justi
 ce-month-plant-based-diet-week.html
END:VEVENT
END:VCALENDAR
