BEGIN:VCALENDAR
VERSION:2.0
PRODID:-//https://eruuf.org///NONSGML kigkonsult.se iCalcreator 2.10.15//
METHOD:PUBLISH
BEGIN:VEVENT
UID:20260424T103424UTC-5084xzEHoU@https://eruuf.org/
DTSTAMP:20260424T103424Z
DESCRIPTION:Have you been thinking about becoming a member of ERUUF? This c
 lass is for you!  Contact student minister Jacqueline Brett for more detai
 ls: jbrett@eruuf.org. https://eruuf.org/calendar/calendar-view/event/604-j
 ourney-to-membership.html
DTSTART:20160820T130000Z
DTEND:20160820T160000Z
LOCATION:Fellowship Hall   ()
SUMMARY:Journey to Membership
URL:https://eruuf.org/calendar/calendar-view/event/604-journey-to-membershi
 p.html
END:VEVENT
END:VCALENDAR
