BEGIN:VCALENDAR
VERSION:2.0
PRODID:-//https://eruuf.org///NONSGML kigkonsult.se iCalcreator 2.10.15//
METHOD:PUBLISH
BEGIN:VEVENT
UID:20260423T055503UTC-7409Rv9Jvj@https://eruuf.org/
DTSTAMP:20260423T055503Z
DESCRIPTION:The Eno River Unitarian Universalist Fellowship is excited to c
 ollaborate with members of the North Carolina Central University (NCCU) Ja
 zz Studies Program to create a series of five Jazz Vespers worship service
 s during 2018-19. The next worship service will take place at ERUUF on Sat
 urday\, June 1 at 4:00 pm. All are welcome to attend!\nLearn more about Ja
 zz Vespers and the upcoming Worship Services here. https://eruuf.org/calen
 dar/calendar-view/event/6044-jazz-vespers-a-collaborative-worship-service.
 html
DTSTART:20190601T200000Z
DTEND:20190601T210000Z
LOCATION:Sanctuary - ERUUF   (4907 Garrett Road\, Durham\, NC 27707  )
SUMMARY:JAZZ VESPERS -- A Collaborative Worship Service
URL:https://eruuf.org/calendar/calendar-view/event/6044-jazz-vespers-a-coll
 aborative-worship-service.html
END:VEVENT
END:VCALENDAR
