BEGIN:VCALENDAR
VERSION:2.0
PRODID:-//https://eruuf.org///NONSGML kigkonsult.se iCalcreator 2.10.15//
METHOD:PUBLISH
BEGIN:VEVENT
UID:20260422T025852UTC-4560x9u7oM@https://eruuf.org/
DTSTAMP:20260422T025852Z
DESCRIPTION:The Eno River Unitarian Universalist Fellowship is excited to c
 ollaborate with members of the North Carolina Central University (NCCU) Ja
 zz Studies Program to create a series of five Jazz Vespers worship service
 s during 2018-19.\nWhat is Vespers?\nVespers is an ancient Christian tradi
 tion of Evening Prayer\, consisting of psalms\, hymns\, chants\, prayers\,
  and readings from the scriptures. Today vespers has been embraced by many
  different spiritual communities and will often include contemporary innov
 ations such as congregational singing\, readings\, poetry\, silent meditat
 ion\, or contemplation.\nJazz Vespers\nWhile readings\, singing\, prayer\,
  words of wisdom and contemplation are present\, in jazz vespers the eleme
 nt of music is a focal point of the service.  \nOne can easily say the eth
 os of jazz is freedom of expression\, however\, jazz musicians understand 
 they need to be conscious of their choices and how they affect the whole. 
 As a result\, we experience a spiritual opportunity to understand improvis
 ation as a metaphor for what it means to live in community. To live creati
 vely with one another’s differences. https://eruuf.org/calendar/calendar-v
 iew/event/6045-jazz-vespers-a-collaborative-worship-service.html
DTSTART:20190824T200000Z
DTEND:20190824T210000Z
LOCATION:Sanctuary - ERUUF   (4907 Garrett Road\, Durham\, NC 27707  )
SUMMARY:JAZZ VESPERS -- A Collaborative Worship Service
URL:https://eruuf.org/calendar/calendar-view/event/6045-jazz-vespers-a-coll
 aborative-worship-service.html
END:VEVENT
END:VCALENDAR
