BEGIN:VCALENDAR
VERSION:2.0
PRODID:-//https://eruuf.org///NONSGML kigkonsult.se iCalcreator 2.10.15//
METHOD:PUBLISH
BEGIN:VEVENT
UID:20260419T123636UTC-0252WUnJb7@https://eruuf.org/
DTSTAMP:20260419T123636Z
DESCRIPTION:Training for all advisors for the Mid-School Youth Group.  Cont
 act Melissa https://eruuf.org/calendar/calendar-view/event/605-msyg-adviso
 r-training.html
DTSTART:20160818T230000Z
DTEND:20160819T010000Z
LOCATION:Room 7 - CARE Building ()
SUMMARY:MSYG Advisor Training
URL:https://eruuf.org/calendar/calendar-view/event/605-msyg-advisor-trainin
 g.html
END:VEVENT
END:VCALENDAR
