BEGIN:VCALENDAR
VERSION:2.0
PRODID:-//https://eruuf.org///NONSGML kigkonsult.se iCalcreator 2.10.15//
METHOD:PUBLISH
BEGIN:VEVENT
UID:20260424T161347UTC-0478KhABH1@https://eruuf.org/
DTSTAMP:20260424T161347Z
DESCRIPTION:The mission of the Infuusions giving circle is focused on givin
 g locally. Persons interested in joining the group are welcome to attend. 
  For more information contact Beth Harvat\, bethandpeter@gmail.com.\n http
 s://eruuf.org/calendar/calendar-view/event/6053-infuusions-giving-circle.h
 tml
DTSTART:20190421T170000Z
DTEND:20190421T190000Z
LOCATION:Room 7 - CARE Building ()
SUMMARY:Infuusions Giving Circle
URL:https://eruuf.org/calendar/calendar-view/event/6053-infuusions-giving-c
 ircle.html
END:VEVENT
END:VCALENDAR
