BEGIN:VCALENDAR
VERSION:2.0
PRODID:-//https://eruuf.org///NONSGML kigkonsult.se iCalcreator 2.10.15//
METHOD:PUBLISH
BEGIN:VEVENT
UID:20260423T094021UTC-3299LWGib0@https://eruuf.org/
DTSTAMP:20260423T094021Z
DESCRIPTION:ERUUF's Music Gala Returns April 6! The Gala will be a fabulous
  evening of musical performances in the Sanctuary followed by an elegant d
 essert reception in the Fellowship Hall. We are looking for all of ERUUF's
  wonderful bakers to bring your most delicious baked goods for the recepti
 on. Sign up below.\nRegister\n \nFor more information about the Gala\, ple
 ase contact Music Director\, Kevin Badanes.  https://eruuf.org/calendar/ca
 lendar-view/event/6055-gala.html
DTSTART:20190406T233000Z
DTEND:20190407T030000Z
LOCATION:Sanctuary - ERUUF   (4907 Garrett Road\, Durham\, NC 27707  )
SUMMARY:Gala
URL:https://eruuf.org/calendar/calendar-view/event/6055-gala.html
END:VEVENT
END:VCALENDAR
