BEGIN:VCALENDAR
VERSION:2.0
PRODID:-//https://eruuf.org///NONSGML kigkonsult.se iCalcreator 2.10.15//
METHOD:PUBLISH
BEGIN:VEVENT
UID:20260421T072645UTC-1912BBOgGv@https://eruuf.org/
DTSTAMP:20260421T072645Z
DESCRIPTION:The Child Dedication Orientation will help families reflect on 
 what the Dedication rite of passage\, what it means to your family as well
  as what dedication means in our UU tradition.  For more information conta
 ct Julia Tyler\, jtyler@eruuf.org. https://eruuf.org/calendar/calendar-vie
 w/event/6057-child-dedication-orientation.html
DTSTART:20190429T023000Z
DTEND:20190429T030500Z
LOCATION:Room 3 - CARE Building ()
SUMMARY:Child Dedication Orientation
URL:https://eruuf.org/calendar/calendar-view/event/6057-child-dedication-or
 ientation.html
END:VEVENT
END:VCALENDAR
