BEGIN:VCALENDAR
VERSION:2.0
PRODID:-//https://eruuf.org///NONSGML kigkonsult.se iCalcreator 2.10.15//
METHOD:PUBLISH
BEGIN:VEVENT
UID:20260425T232544UTC-2335CbKNt5@https://eruuf.org/
DTSTAMP:20260425T232544Z
DESCRIPTION:Come be inspired by ERUUF's 18 attendees to the 2016 General As
 sembly of the Unitarian Universalist Association\, held in Columbus\, Ohio
 ! Join us for any or all of:Wed. 8/17 - Screening of Rev. Bill Sinkford's 
 (former UUA President) great sermon at the Service of the Living Tradition
 \, followed by brief discussion.Wed. 8/24 - Screening of Rev. Nancy Ladd's
  inspiring Sunday morning sermon on how to transcend our 'fake fights' and
  build stronger spiritual community\, followed by brief discussion.Wed. 8/
 31 - Speakers panel of some of our ERUUF delegates\, who will share key in
 sights and experiences from attending GA this year\, followed by audience 
 Q&A.Questions? Please contact David Tucker\, bicycler.dave@gmail.com. http
 s://eruuf.org/calendar/calendar-view/event/606-inspiration-from-ga.html
DTSTART:20160817T230000Z
DTEND:20160818T003000Z
LOCATION:Room 4/5   (4907 Garrett Rd\, Durham\, NC 27707   )
SUMMARY:Inspiration from GA
URL:https://eruuf.org/calendar/calendar-view/event/606-inspiration-from-ga.
 html
END:VEVENT
END:VCALENDAR
