BEGIN:VCALENDAR
VERSION:2.0
PRODID:-//https://eruuf.org///NONSGML kigkonsult.se iCalcreator 2.10.15//
METHOD:PUBLISH
BEGIN:VEVENT
UID:20260419T213323UTC-4813f4ZVxZ@https://eruuf.org/
DTSTAMP:20260419T213323Z
DESCRIPTION:Follow-up conversation with the Change team for participants of
  the August 12/13 Dismantling Racism workshop.  Contact Diane Blount https
 ://eruuf.org/calendar/calendar-view/event/608-followup-conversation-for-di
 smantling-racism-workshop-participants.html
DTSTART:20160814T160000Z
DTEND:20160814T173000Z
LOCATION:Library - CARE Building ()
SUMMARY:Followup conversation for Dismantling Racism Workshop participants
URL:https://eruuf.org/calendar/calendar-view/event/608-followup-conversatio
 n-for-dismantling-racism-workshop-participants.html
END:VEVENT
END:VCALENDAR
