BEGIN:VCALENDAR
VERSION:2.0
PRODID:-//https://eruuf.org///NONSGML kigkonsult.se iCalcreator 2.10.15//
METHOD:PUBLISH
BEGIN:VEVENT
UID:20260422T095550UTC-0998twS5uh@https://eruuf.org/
DTSTAMP:20260422T095550Z
DESCRIPTION:Training for High School Youth Group Advisors.  Contact Melissa
 . https://eruuf.org/calendar/calendar-view/event/609-hsyg-advisors-trainin
 g.html
DTSTART:20160814T160000Z
DTEND:20160814T210000Z
LOCATION:Room 7 - CARE Building ()
SUMMARY:HSYG Advisors Training
URL:https://eruuf.org/calendar/calendar-view/event/609-hsyg-advisors-traini
 ng.html
END:VEVENT
END:VCALENDAR
