BEGIN:VCALENDAR
VERSION:2.0
PRODID:-//https://eruuf.org///NONSGML kigkonsult.se iCalcreator 2.10.15//
METHOD:PUBLISH
BEGIN:VEVENT
UID:20260421T235156UTC-6672XNtk0n@https://eruuf.org/
DTSTAMP:20260421T235156Z
DESCRIPTION:This is the fourth Dismantling Racism workshoP to be held at ER
 UUF.  Pre-registration is required. https://eruuf.org/calendar/calendar-vi
 ew/event/610-dismantling-racism-workshop.html
DTSTART;VALUE=DATE:20160812
LOCATION:Fellowship Hall   ()
SUMMARY:Dismantling Racism workshop
URL:https://eruuf.org/calendar/calendar-view/event/610-dismantling-racism-w
 orkshop.html
END:VEVENT
END:VCALENDAR
