BEGIN:VCALENDAR
VERSION:2.0
PRODID:-//https://eruuf.org///NONSGML kigkonsult.se iCalcreator 2.10.15//
METHOD:PUBLISH
BEGIN:VEVENT
UID:20260420T132224UTC-0596UKfBze@https://eruuf.org/
DTSTAMP:20260420T132224Z
DESCRIPTION:Are 2\,000-year-old parables relevant in today’s world? You dec
 ide! ERUUF's Christian Fellowship is facilitating discussions on May 19\, 
 June 16\, and one TBA\, each focusing on one parable from the Christian Sc
 riptures. Sessions will cover historical background\, a series of question
 s to find universal values and lessons and a rewrite of the parable for mo
 dern times.\nIn each of three sessions\, we will read one parable from the
  Christian Scriptures\, then use historical background and a series of que
 stions to analyze the content for universal values and lessons. Together\,
  we’ll explore the parable’s relevance to UU principles\, and finally\, su
 ggest modern settings and characters through which the values could be ill
 ustrated in today’s world. Parables covered: The Good Samaritan\, The Rich
  Fool\, and The Workers in the Vineyard. Bring a bag lunch\, and we will p
 rovide drinks and dessert.\nRegister below to attend one\, two\, or all th
 ree sessions. For more information\, Contact us at UUCF@eruuf.org.\nSchedu
 le:\nMay 5th\, Room 4/5\, 1:00-3:00\, The Good Samaritan ***Postponed. New
  date TBA***May 19th\, Room 3\, 12:30-2:30\, The Rich FoolJune 16th\, Room
  3\, 12:30-2:30\, The Workers in the Vineyard\nRegister https://eruuf.org/
 calendar/calendar-view/event/6133-stories-traveling-through-time-the-rich-
 fool.html
DTSTART:20190519T163007Z
DTEND:20190519T183007Z
LOCATION:Room 3 - CARE Building ()
SUMMARY:Stories Traveling Through Time:The Rich Fool
URL:https://eruuf.org/calendar/calendar-view/event/6133-stories-traveling-t
 hrough-time-the-rich-fool.html
END:VEVENT
END:VCALENDAR
