BEGIN:VCALENDAR
VERSION:2.0
PRODID:-//https://eruuf.org///NONSGML kigkonsult.se iCalcreator 2.10.15//
METHOD:PUBLISH
BEGIN:VEVENT
UID:20260422T102737UTC-0013gURB4v@https://eruuf.org/
DTSTAMP:20260422T102737Z
DESCRIPTION:The newly formed Refugee and Immigrant Action Group welcomes yo
 ur interest and participation in upcoming projects and events. We offer en
 gagement opportunities for ERUUFians to begin to build relationships with 
 and support refugees and immigrants in our community. Let's get to know ou
 r new neighbors\, and welcome them! Do you want to be involved with refuge
 es in our neighborhood?  We have an immediate need for volunteers to suppo
 rt the Global Women's Group which meets at ERUUF on Friday mornings from 9
 :30-11:30\, to help with concurrent children's activity programs. The wome
 n's group is led by Irene Felsman\, and the children's activities vary\, b
 ased on ages and turnout. A pool of 6-8 volunteers are needed so we can ha
 ve 2 adults each Friday\, back each other up\, and schedule each person no
  more than twice a month. Please contact Peggy Schaeffer to volunteer or f
 or more info.  Peggy Schaeffer and Irene Felsman\, co-facilitators  https:
 //eruuf.org/calendar/calendar-view/event/614-volunteer-with-refugees.html
DTSTART:20160805T133000Z
DTEND:20160805T153000Z
LOCATION:ERUUF Campus   (4907 Garrett Rd\, Durham\, NC 27707    )
SUMMARY:Volunteer with Refugees
URL:https://eruuf.org/calendar/calendar-view/event/614-volunteer-with-refug
 ees.html
END:VEVENT
END:VCALENDAR
