BEGIN:VCALENDAR
VERSION:2.0
PRODID:-//https://eruuf.org///NONSGML kigkonsult.se iCalcreator 2.10.15//
METHOD:PUBLISH
BEGIN:VEVENT
UID:20260424T205541UTC-5409UJnBpV@https://eruuf.org/
DTSTAMP:20260424T205541Z
DESCRIPTION:Sponsored by the ERUUF Parents Group\, this is training for par
 ents and children that teaches them about stranger danger and how to prote
 ct themselves. Facilitated by KidPower\, https://www.kidpower.org/. Regist
 ration is limited.  Contact Kat Benson  https://eruuf.org/calendar/calenda
 r-view/event/616-kid-power-training.html
DTSTART:20160730T173000Z
DTEND:20160730T193000Z
LOCATION:Room 4/5   (4907 Garrett Rd\, Durham\, NC 27707   )
SUMMARY:Kid Power Training
URL:https://eruuf.org/calendar/calendar-view/event/616-kid-power-training.h
 tml
END:VEVENT
END:VCALENDAR
