BEGIN:VCALENDAR
VERSION:2.0
PRODID:-//https://eruuf.org///NONSGML kigkonsult.se iCalcreator 2.10.15//
METHOD:PUBLISH
BEGIN:VEVENT
UID:20260425T103238UTC-9817kPIJPe@https://eruuf.org/
DTSTAMP:20260425T103238Z
DESCRIPTION:Durham CAN will be asking city leaders to affirm their support 
 for Affordable Housing at Fayette Place. CAN requests that all member orga
 nizations stand with them (arrive by 5:15) for a powerful show of commitme
 nt. Rev. Cayer will be there and asks ERUUFians to join her. RSVP to ERUUF
  Office\,office@eruuf.org (so both Deb and CAN will know who/what/how many
  to expect).  For a history of Fayette Place\, which at one time held 20 a
 cres of public housing\, see http://www.opendurham.org/buildings/fayette-p
 lace. Flyer for event https://eruuf.org/calendar/calendar-view/event/617-d
 urham-can-accountability-meeting.html
DTSTART:20160727T213000Z
DTEND:20160727T230000Z
LOCATION:Fayette Place (Merrick St & E Umstead St\, Durham\, NC 27701\, USA
 )
SUMMARY:Durham CAN Accountability Meeting
URL:https://eruuf.org/calendar/calendar-view/event/617-durham-can-accountab
 ility-meeting.html
END:VEVENT
END:VCALENDAR
