BEGIN:VCALENDAR
VERSION:2.0
PRODID:-//https://eruuf.org///NONSGML kigkonsult.se iCalcreator 2.10.15//
METHOD:PUBLISH
BEGIN:VEVENT
UID:20260420T114545UTC-0869KUKKhU@https://eruuf.org/
DTSTAMP:20260420T114545Z
DESCRIPTION:Meet local refugees and share in their cultures! The new Refuge
 es and Immigrants Justice Action Group is planning a potluck dinner for lo
 cal refugees and ERUUFians. Refugees will cook and ERUUFians will buy a ti
 cket to participate\, raising money and covering the costs of the event. E
 veryone will eat together. If successful\, we will do this again in future
 .  Contact Peggy Schaefer https://eruuf.org/calendar/calendar-view/event/6
 18-dinner-with-refugees.html
DTSTART:20160723T213000Z
DTEND:20160724T000000Z
LOCATION:Fellowship Hall   ()
SUMMARY:Dinner with Refugees
URL:https://eruuf.org/calendar/calendar-view/event/618-dinner-with-refugees
 .html
END:VEVENT
END:VCALENDAR
