BEGIN:VCALENDAR
VERSION:2.0
PRODID:-//https://eruuf.org///NONSGML kigkonsult.se iCalcreator 2.10.15//
METHOD:PUBLISH
BEGIN:VEVENT
UID:20260419T221454UTC-7779MJW89d@https://eruuf.org/
DTSTAMP:20260419T221454Z
DESCRIPTION:Curriculum planning meeting for all former COA leaders and ment
 ors. Contact Melissa https://eruuf.org/calendar/calendar-view/event/624-co
 ming-of-age-leaders-and-mentors-meeting.html
DTSTART:20160714T230000Z
DTEND:20160715T010000Z
LOCATION:Room 7 - CARE Building ()
SUMMARY:Coming of Age Leaders and Mentors meeting
URL:https://eruuf.org/calendar/calendar-view/event/624-coming-of-age-leader
 s-and-mentors-meeting.html
END:VEVENT
END:VCALENDAR
