BEGIN:VCALENDAR
VERSION:2.0
PRODID:-//https://eruuf.org///NONSGML kigkonsult.se iCalcreator 2.10.15//
METHOD:PUBLISH
BEGIN:VEVENT
UID:20260422T182311UTC-3661B1UeXb@https://eruuf.org/
DTSTAMP:20260422T182311Z
DESCRIPTION:For all friends\, visitors or guests who want to know more abou
 t ERUUF and Unitarian Universalism.  Contact Jacqueline Brett https://eruu
 f.org/calendar/calendar-view/event/626-newcomer-orientation.html
DTSTART:20160710T154500Z
DTEND:20160710T163000Z
LOCATION:Chapel   ()
SUMMARY:Newcomer Orientation
URL:https://eruuf.org/calendar/calendar-view/event/626-newcomer-orientation
 .html
END:VEVENT
END:VCALENDAR
