BEGIN:VCALENDAR
VERSION:2.0
PRODID:-//https://eruuf.org///NONSGML kigkonsult.se iCalcreator 2.10.15//
METHOD:PUBLISH
BEGIN:VEVENT
UID:20260426T014827UTC-4589iPSguO@https://eruuf.org/
DTSTAMP:20260426T014827Z
DESCRIPTION:Monthly meeting of the Earth Justice Ministry Team.  Contact Ch
 eryl Turney for information https://eruuf.org/calendar/calendar-view/event
 /628-earth-justice-ministry-team.html
DTSTART:20160703T170000Z
DTEND:20160703T183000Z
LOCATION:Fellowship Hall   ()
SUMMARY:Earth Justice Ministry Team
URL:https://eruuf.org/calendar/calendar-view/event/628-earth-justice-minist
 ry-team.html
END:VEVENT
END:VCALENDAR
