BEGIN:VCALENDAR
VERSION:2.0
PRODID:-//https://eruuf.org///NONSGML kigkonsult.se iCalcreator 2.10.15//
METHOD:PUBLISH
BEGIN:VEVENT
UID:20260424T205430UTC-4811Mldvd6@https://eruuf.org/
DTSTAMP:20260424T205430Z
DESCRIPTION:General Assembly for 2016 meets June 22-26 in Columbus Ohio. Th
 e theme will be Heart Land: Where Faiths Connect. For  more information\, 
 contact board member David Tucker\, bicycler.dave@gmail.com or go to the G
 eneral Assembly website\, http://www.uua.org/ga https://eruuf.org/calendar
 /calendar-view/event/632-general-assembly.html
DTSTART;VALUE=DATE:20160622
LOCATION:Greater Columbus Convention Center (400 N High St\, Columbus\, OH 
 43215)
SUMMARY:General Assembly
URL:https://eruuf.org/calendar/calendar-view/event/632-general-assembly.htm
 l
END:VEVENT
END:VCALENDAR
