BEGIN:VCALENDAR
VERSION:2.0
PRODID:-//https://eruuf.org///NONSGML kigkonsult.se iCalcreator 2.10.15//
METHOD:PUBLISH
BEGIN:VEVENT
UID:20260424T222141UTC-9457ISu5TO@https://eruuf.org/
DTSTAMP:20260424T222141Z
DESCRIPTION:Orientation meeting for delegates to the UUA General Assembly. 
  Contact Chrissey Trainello. https://eruuf.org/calendar/calendar-view/even
 t/634-ga-orientation.html
DTSTART:20160618T134500Z
DTEND:20160618T151500Z
LOCATION:Room 7 - CARE Building ()
SUMMARY:GA orientation
URL:https://eruuf.org/calendar/calendar-view/event/634-ga-orientation.html
END:VEVENT
END:VCALENDAR
