BEGIN:VCALENDAR
VERSION:2.0
PRODID:-//https://eruuf.org///NONSGML kigkonsult.se iCalcreator 2.10.15//
METHOD:PUBLISH
BEGIN:VEVENT
UID:20260422T175122UTC-4188pfTMng@https://eruuf.org/
DTSTAMP:20260422T175122Z
DESCRIPTION:Join Durham CAN youth and adults for a report from elected offi
 cials following the agreements made around the school counseling issue dur
 ing the March CAN assembly. We will hear a report on the results of the Du
 rham Public Schools audit on school counseling services\, as well as a rep
 ort from County Commissioners & the President of the Durham Technical Comm
 unity College on the availability of Durham ConnectFunds to hire additiona
 l college liaisons to improve access to post-secondary opportunities for D
 urham youth.  Come support the Youth' and others' witness on what was prom
 ised.  We've pledged 10 attendees from ERUUF and we hope to get many more!
  Contact Cindy Henshaw with questions. https://eruuf.org/calendar/calendar
 -view/event/636-durham-can-accountability-on-school-counselors-action.html
DTSTART:20160615T220000Z
DTEND:20160615T233000Z
LOCATION:ERUUF Campus   (4907 Garrett Rd\, Durham\, NC 27707    )
SUMMARY:Durham CAN Accountability on School Counselors Action
URL:https://eruuf.org/calendar/calendar-view/event/636-durham-can-accountab
 ility-on-school-counselors-action.html
END:VEVENT
END:VCALENDAR
