BEGIN:VCALENDAR
VERSION:2.0
PRODID:-//https://eruuf.org///NONSGML kigkonsult.se iCalcreator 2.10.15//
METHOD:PUBLISH
BEGIN:VEVENT
UID:20260424T183923UTC-9214vinDWn@https://eruuf.org/
DTSTAMP:20260424T183923Z
DESCRIPTION:Monthly meeting of the Justice Ministry Council.  Contact Amass
 a Fauntleroy at justice@eruuf.org https://eruuf.org/calendar/calendar-view
 /event/637-justice-ministry-council-meeting.html
DTSTART:20160614T230000Z
DTEND:20160615T010000Z
LOCATION:Room 1 - CARE Building ()
SUMMARY:Justice Ministry Council meeting
URL:https://eruuf.org/calendar/calendar-view/event/637-justice-ministry-cou
 ncil-meeting.html
END:VEVENT
END:VCALENDAR
