BEGIN:VCALENDAR
VERSION:2.0
PRODID:-//https://eruuf.org///NONSGML kigkonsult.se iCalcreator 2.10.15//
METHOD:PUBLISH
BEGIN:VEVENT
UID:20260424T034842UTC-5001XKdU64@https://eruuf.org/
DTSTAMP:20260424T034842Z
DESCRIPTION:The Earth Justice Team presents a week of activities about plan
 t-based diets.  Here's the schedule:Sunday\, June 12\, 11:45am\, Room 7 -T
 alk with Doctors Howard Jacobson and Jon Sheline with Q&A about the benefi
 ts of eating a Plant Based Diet Monday June 13\, 7pm\, Room 4/5 - Movie Ni
 ght with Forks Over Knives- learn about how to eat healthier\, more sustai
 nable and more ethical Friday\, June 17\, 6pm\, Commons Room - Cooking Dem
 o with Dr. Howard Jacobson- free samples and information on plant based re
 cipes Saturday\, June 18\, 4:30pm\, Fellowship Hall - Wrap up the week wit
 h Dinner and  Moooooovie 'Cowspiracy' Bring a plant based dish to share! C
 ontact  Christine Frost https://eruuf.org/calendar/calendar-view/event/638
 -earth-justice-plant-based-diet-week.html
DTSTART:20160613T230000Z
DTEND:20160614T003000Z
LOCATION:Commons Room   (4907 Garrett Rd\, Durham\, NC 27707  )
SUMMARY:Earth Justice: Plant-based-diet week
URL:https://eruuf.org/calendar/calendar-view/event/638-earth-justice-plant-
 based-diet-week.html
END:VEVENT
END:VCALENDAR
