BEGIN:VCALENDAR
VERSION:2.0
PRODID:-//https://eruuf.org///NONSGML kigkonsult.se iCalcreator 2.10.15//
METHOD:PUBLISH
BEGIN:VEVENT
UID:20260423T170722UTC-28081MlssG@https://eruuf.org/
DTSTAMP:20260423T170722Z
DESCRIPTION:The Earth Justice Team presents a week of activities about plan
 t-based diets. Here's the schedule:Sunday\, June 12\, 11:45am\, Room 7 -Ta
 lk with Doctors Howard Jacobson and Jon Sheline with Q&A about the benefit
 s of eating a Plant Based Diet Monday June 13\, 7pm\, Room 4/5 - Movie Nig
 ht with Forks Over Knives- learn about how to eat healthier\, more sustain
 able and more ethical Friday\, June 17\, 6pm\, Commons Room - Cooking Demo
  with Dr. Howard Jacobson- free samples and information on plant based rec
 ipes Saturday\, June 18\, 4:30pm\, Fellowship Hall - Wrap up the week with
  Dinner and  Moooooovie 'Cowspiracy' Bring a plant based dish to share! Co
 ntact  Christine Frost https://eruuf.org/calendar/calendar-view/event/642-
 earth-justice-plant-based-diet-week.html
DTSTART:20160612T154500Z
DTEND:20160612T171500Z
LOCATION:Room 7 - CARE Building ()
SUMMARY:Earth Justice: Plant-based-diet week
URL:https://eruuf.org/calendar/calendar-view/event/642-earth-justice-plant-
 based-diet-week.html
END:VEVENT
END:VCALENDAR
