BEGIN:VCALENDAR
VERSION:2.0
PRODID:-//https://eruuf.org///NONSGML kigkonsult.se iCalcreator 2.10.15//
METHOD:PUBLISH
BEGIN:VEVENT
UID:20260425T040351UTC-2897onraGb@https://eruuf.org/
DTSTAMP:20260425T040351Z
DESCRIPTION:All ERUUFians that have expressed an interest in and/or partici
 pated in past Earth Justice activities are invited to join the Earth Justi
 ce Action Team at this retreat in order to help create a vision and missio
 n\, and set goals for EJ as part of the overall transition in justice effo
 rts.  Please come with a readiness to commit to put our plans into action.
  Lunch will be provided.Please RSVP by Thursday afternoon\, June 9 to Tom 
 Fletcher\, tffletch@msn.com https://eruuf.org/calendar/calendar-view/event
 /643-earth-justice-retreat.html
DTSTART:20160611T130000Z
DTEND:20160611T160000Z
LOCATION:Durham Central Park Co-Housing (130 Hunt St\, Durham\, NC 27701\, 
 USA)
SUMMARY:Earth Justice Retreat
URL:https://eruuf.org/calendar/calendar-view/event/643-earth-justice-retrea
 t.html
END:VEVENT
END:VCALENDAR
