BEGIN:VCALENDAR
VERSION:2.0
PRODID:-//https://eruuf.org///NONSGML kigkonsult.se iCalcreator 2.10.15//
METHOD:PUBLISH
BEGIN:VEVENT
UID:20260422T080758UTC-8591G7RxZ5@https://eruuf.org/
DTSTAMP:20260422T080758Z
DESCRIPTION:Durham Can Metro Council meeting\, which is for all people who 
 want to work with and help plan for CAN.  'We will be envisioning and deci
 ding together on key city actions on affordable housing\, community polici
 ng and jobs campaign. We will make sure we are all on same page for June 1
 5 action on opportunities for youth.'  Contact Cindy Henshaw https://eruuf
 .org/calendar/calendar-view/event/644-durham-can-planning-meeting.html
DTSTART:20160609T220000Z
DTEND:20160609T233000Z
LOCATION:Watts Street Baptist Church (800 Watts Street\, Durham\, NC 27701)
SUMMARY:Durham CAN Planning meeting
URL:https://eruuf.org/calendar/calendar-view/event/644-durham-can-planning-
 meeting.html
END:VEVENT
END:VCALENDAR
