BEGIN:VCALENDAR
VERSION:2.0
PRODID:-//https://eruuf.org///NONSGML kigkonsult.se iCalcreator 2.10.15//
METHOD:PUBLISH
BEGIN:VEVENT
UID:20260425T223151UTC-1989rvwczk@https://eruuf.org/
DTSTAMP:20260425T223151Z
DESCRIPTION:Please plan on attending! Our annual business meeting requires 
 a quorum of 10% of all members.  Items on the agenda include reports from 
 the Lead Minister and Board of Trustees\, election of new officers and app
 roval of the budget for 2016-2017. https://eruuf.org/calendar/calendar-vie
 w/event/647-annual-business-meeting.html
DTSTART:20160605T160000Z
DTEND:20160605T180000Z
LOCATION:Sanctuary - ERUUF   (4907 Garrett Road\, Durham\, NC 27707  )
SUMMARY:Annual Business Meeting
URL:https://eruuf.org/calendar/calendar-view/event/647-annual-business-meet
 ing.html
END:VEVENT
END:VCALENDAR
