BEGIN:VCALENDAR
VERSION:2.0
PRODID:-//https://eruuf.org///NONSGML kigkonsult.se iCalcreator 2.10.15//
METHOD:PUBLISH
BEGIN:VEVENT
UID:20260422T214702UTC-02605gOcVG@https://eruuf.org/
DTSTAMP:20260422T214702Z
DESCRIPTION:Have you been thinking about becoming a member of ERUUF? Contac
 t student minister Jacqueline Brett for more details: jbrett@eruuf.org. ht
 tps://eruuf.org/calendar/calendar-view/event/649-journey-to-membership-cla
 ss.html
DTSTART:20160604T130000Z
DTEND:20160605T160000Z
LOCATION:Room 4/5   (4907 Garrett Rd\, Durham\, NC 27707   )
SUMMARY:Journey to Membership class
URL:https://eruuf.org/calendar/calendar-view/event/649-journey-to-membershi
 p-class.html
END:VEVENT
END:VCALENDAR
