BEGIN:VCALENDAR
VERSION:2.0
PRODID:-//https://eruuf.org///NONSGML kigkonsult.se iCalcreator 2.10.15//
METHOD:PUBLISH
BEGIN:VEVENT
UID:20260419T130129UTC-0342HTddCp@https://eruuf.org/
DTSTAMP:20260419T130129Z
DESCRIPTION:Change Team meeting. Contact Diane Blount. https://eruuf.org/ca
 lendar/calendar-view/event/650-change-team.html
DTSTART:20160602T230000Z
DTEND:20160603T010000Z
LOCATION:Room 1 - CARE Building ()
SUMMARY:Change Team
URL:https://eruuf.org/calendar/calendar-view/event/650-change-team.html
END:VEVENT
END:VCALENDAR
