BEGIN:VCALENDAR
VERSION:2.0
PRODID:-//https://eruuf.org///NONSGML kigkonsult.se iCalcreator 2.10.15//
METHOD:PUBLISH
BEGIN:VEVENT
UID:20260423T135817UTC-5444vN8JPh@https://eruuf.org/
DTSTAMP:20260423T135817Z
DESCRIPTION:A two-night camping trip will take place at Falls Lake on Memor
 ial day weekend (30 minutes away from Durham). Come and enjoy games\, camp
 fire stories\, s’mores and spirituality with fellow ERUUFians in the outdo
 ors. If you do not wish to stay overnight\, you are more than welcome to j
 ust stay during the day. All generations are welcome. We hope to have some
 thing for everyone!You will find us in the BW Wells Campground\, Sites BW0
 6 and BW07 starting at 10 am on Saturday.You may register at:  eruuf-2016s
 pring-camping.eventbrite.com (password: ERUUF). Contact: L-J Pilaz (ljpila
 z@gmail.com). https://eruuf.org/calendar/calendar-view/event/654-spring-ca
 mping-trip.html
DTSTART:20160528T140000Z
DTEND:20160530T190000Z
LOCATION:BW Wells Campgrounds\, Falls Lake  (1630 Bent Rd\, Wake Forest\, N
 C 27587\, USA)
SUMMARY:Spring Camping Trip
URL:https://eruuf.org/calendar/calendar-view/event/654-spring-camping-trip.
 html
END:VEVENT
END:VCALENDAR
