BEGIN:VCALENDAR
VERSION:2.0
PRODID:-//https://eruuf.org///NONSGML kigkonsult.se iCalcreator 2.10.15//
METHOD:PUBLISH
BEGIN:VEVENT
UID:20260423T100323UTC-6530Gjhvc1@https://eruuf.org/
DTSTAMP:20260423T100323Z
DESCRIPTION:Contact Deborah Cayer\, dcayer@eruuf.org https://eruuf.org/cale
 ndar/calendar-view/event/655-worship-associates-meeting.html
DTSTART:20160525T230000Z
DTEND:20160526T010000Z
LOCATION:Commons Room   (4907 Garrett Rd\, Durham\, NC 27707  )
SUMMARY:Worship Associates meeting
URL:https://eruuf.org/calendar/calendar-view/event/655-worship-associates-m
 eeting.html
END:VEVENT
END:VCALENDAR
