BEGIN:VCALENDAR
VERSION:2.0
PRODID:-//https://eruuf.org///NONSGML kigkonsult.se iCalcreator 2.10.15//
METHOD:PUBLISH
BEGIN:VEVENT
UID:20260422T130154UTC-2645fKNVmA@https://eruuf.org/
DTSTAMP:20260422T130154Z
DESCRIPTION:Justice Ministry Council organizational meeting. Contact Doug R
 hodes https://eruuf.org/calendar/calendar-view/event/665-justice-ministry-
 council.html
DTSTART:20160509T230000Z
DTEND:20160510T013000Z
LOCATION:Room 1 - CARE Building ()
SUMMARY:Justice Ministry Council
URL:https://eruuf.org/calendar/calendar-view/event/665-justice-ministry-cou
 ncil.html
END:VEVENT
END:VCALENDAR
