BEGIN:VCALENDAR
VERSION:2.0
PRODID:-//https://eruuf.org///NONSGML kigkonsult.se iCalcreator 2.10.15//
METHOD:PUBLISH
BEGIN:VEVENT
UID:20260422T200640UTC-1892cvHLAV@https://eruuf.org/
DTSTAMP:20260422T200640Z
DESCRIPTION:This 50th Anniversary Year we've been working on covenant–who a
 re we\, whose are we\, who are our neighbors\, what is our promise? The Wh
 o/Whose Team will offer repeats of the same 2-hour workshop 'What is Our P
 romise?.'Three dates available: May 7\, 10\, 11.(Results will be posted to
  the congregation for review\, comment\, and revision over the course of t
 he following months.)   Register Here  https://eruuf.org/calendar/calendar
 -view/event/667-what-is-our-promise-workshop.html
DTSTART:20160507T170000Z
DTEND:20160507T190000Z
LOCATION:Room 4/5   (4907 Garrett Rd\, Durham\, NC 27707   )
SUMMARY:What Is Our Promise? Workshop
URL:https://eruuf.org/calendar/calendar-view/event/667-what-is-our-promise-
 workshop.html
END:VEVENT
END:VCALENDAR
