BEGIN:VCALENDAR
VERSION:2.0
PRODID:-//https://eruuf.org///NONSGML kigkonsult.se iCalcreator 2.10.15//
METHOD:PUBLISH
BEGIN:VEVENT
UID:20260422T185500UTC-35017u6rV3@https://eruuf.org/
DTSTAMP:20260422T185500Z
DESCRIPTION:ERUUFians of all ages\, walks of life\, ethnic backgrounds\, ab
 ilities\, sexual orientations\, and gender identities are invited to join 
 in this skill-building session hosted by the HSYG\, MSYG\, and Pastoral Ca
 re Team\, Wisdom Sharing Circles are derived from and build on Indigenous 
 Teachings and other Wisdom traditions. The exercise builds skills in deep 
 listening\, a foundational block of forming covenantal relationships and T
 he Beloved Community.We will meet in the Commons Room\, have lunch\, and s
 tart after our meal. Each participant is asked to bring an object that has
  some personal significance or elicits a memory. The items will be used as
  part of the main activity. Please register below and plan to be present f
 or the entirety of the circle. We will adjourn no later than 3 pm.\n \nReg
 ister  https://eruuf.org/calendar/calendar-view/event/6691-intergeneration
 al-wisdom-sharing-circles.html
DTSTART:20190609T161500Z
DTEND:20190609T190000Z
LOCATION:Room 4/5   (4907 Garrett Rd\, Durham\, NC 27707   )
SUMMARY:Intergenerational Wisdom Sharing Circles
URL:https://eruuf.org/calendar/calendar-view/event/6691-intergenerational-w
 isdom-sharing-circles.html
END:VEVENT
END:VCALENDAR
