BEGIN:VCALENDAR
VERSION:2.0
PRODID:-//https://eruuf.org///NONSGML kigkonsult.se iCalcreator 2.10.15//
METHOD:PUBLISH
BEGIN:VEVENT
UID:20260422T112648UTC-8899awLnvc@https://eruuf.org/
DTSTAMP:20260422T112648Z
DESCRIPTION:Join us for a discussion of the upcoming budget for fiscal year
  2019-20 which has been revised from the draft that was presented in April
 .  Please contact Daniel Trollinger for more information\, dtrollinger@eru
 uf.org https://eruuf.org/calendar/calendar-view/event/6693-finance-forum.h
 tml
DTSTART:20190526T153000Z
DTEND:20190526T163000Z
LOCATION:Chapel   ()
SUMMARY:Finance Forum
URL:https://eruuf.org/calendar/calendar-view/event/6693-finance-forum.html
END:VEVENT
END:VCALENDAR
