BEGIN:VCALENDAR
VERSION:2.0
PRODID:-//https://eruuf.org///NONSGML kigkonsult.se iCalcreator 2.10.15//
METHOD:PUBLISH
BEGIN:VEVENT
UID:20260424T141953UTC-5487FacvHz@https://eruuf.org/
DTSTAMP:20260424T141953Z
DESCRIPTION:Back by popular demand\, ERUUF’s Spiritual Odyssey conversation
 s will occur each Sunday from June 9 to August 11. A beloved ERUUFian will
  present the story of her or his personal and/or spiritual quest. We’ll he
 ar about early childhood memories\, important forks in the road\, signific
 ant events\, and a few funny anecdotes along the way! We invite you to joi
 n us for an hour of storytelling and enlightenment as you get to know your
  fellowship friends better. Each Spiritual Odyssey will be followed by a p
 eriod of Q & A so that you can go deeper with the speaker.\nJune 16: Ann R
 ingland\, The Accidentally Spiritual Tourist https://eruuf.org/calendar/ca
 lendar-view/event/6695-spiritual-odyssey.html
DTSTART:20190616T130000Z
DTEND:20190616T140000Z
LOCATION:Commons Room   (4907 Garrett Rd\, Durham\, NC 27707  )
SUMMARY:Spiritual Odyssey
URL:https://eruuf.org/calendar/calendar-view/event/6695-spiritual-odyssey.h
 tml
END:VEVENT
END:VCALENDAR
