BEGIN:VCALENDAR
VERSION:2.0
PRODID:-//https://eruuf.org///NONSGML kigkonsult.se iCalcreator 2.10.15//
METHOD:PUBLISH
BEGIN:VEVENT
UID:20260419T214530UTC-4381IetHZZ@https://eruuf.org/
DTSTAMP:20260419T214530Z
DESCRIPTION:Back by popular demand\, ERUUF’s Spiritual Odyssey conversation
 s will occur each Sunday from June 9 to August 11. A beloved ERUUFian will
  present the story of her or his personal and/or spiritual quest. We’ll he
 ar about early childhood memories\, important forks in the road\, signific
 ant events\, and a few funny anecdotes along the way! We invite you to joi
 n us for an hour of storytelling and enlightenment as you get to know your
  fellowship friends better. Each Spiritual Odyssey will be followed by a p
 eriod of Q & A so that you can go deeper with the speaker.\nThis Sunday - 
 Brent Bissette  I've Got Jesus in my Heart\, Buddha on my Mind\, and a Bod
 y Full of Wisdom—Now What? \nAs a Southern\, gay son\, husband\, father\, 
 Christian pastor and interfaith chaplain\, the challenges and unexpected b
 lessings of the past have shaped my spiritual journey in significant ways.
  And my current experience as a newly minted UU also raises questions for 
 the future. Now\, what!?\n \n  https://eruuf.org/calendar/calendar-view/ev
 ent/6698-spiritual-odyssey.html
DTSTART:20190707T130000Z
DTEND:20190707T140000Z
LOCATION:Commons Room   (4907 Garrett Rd\, Durham\, NC 27707  )
SUMMARY:Spiritual Odyssey
URL:https://eruuf.org/calendar/calendar-view/event/6698-spiritual-odyssey.h
 tml
END:VEVENT
END:VCALENDAR
