BEGIN:VCALENDAR
VERSION:2.0
PRODID:-//https://eruuf.org///NONSGML kigkonsult.se iCalcreator 2.10.15//
METHOD:PUBLISH
BEGIN:VEVENT
UID:20260424T064357UTC-4510goJWwt@https://eruuf.org/
DTSTAMP:20260424T064357Z
DESCRIPTION:Brief overview of financial issues for the year to date. Review
  of draft budget for 2016-17. See past reports online (ERUUF by the Number
 s). https://eruuf.org/calendar/calendar-view/event/670-finance-forum.html
DTSTART:20160501T143000Z
DTEND:20160501T150000Z
LOCATION:Room 4/5   (4907 Garrett Rd\, Durham\, NC 27707   )
SUMMARY:Finance Forum
URL:https://eruuf.org/calendar/calendar-view/event/670-finance-forum.html
END:VEVENT
END:VCALENDAR
