BEGIN:VCALENDAR
VERSION:2.0
PRODID:-//https://eruuf.org///NONSGML kigkonsult.se iCalcreator 2.10.15//
METHOD:PUBLISH
BEGIN:VEVENT
UID:20260423T085405UTC-0124hIWE45@https://eruuf.org/
DTSTAMP:20260423T085405Z
DESCRIPTION:Back by popular demand\, ERUUF’s Spiritual Odyssey conversation
 s will occur each Sunday from June 9 to August 11. A beloved ERUUFian will
  present the story of her or his personal and/or spiritual quest. We’ll he
 ar about early childhood memories\, important forks in the road\, signific
 ant events\, and a few funny anecdotes along the way! We invite you to joi
 n us for an hour of storytelling and enlightenment as you get to know your
  fellowship friends better. Each Spiritual Odyssey will be followed by a p
 eriod of Q & A so that you can go deeper with the speaker.\n \n This Sunda
 y - David Huber A Journey Towards Wholeness\, 'From my early life\, painfu
 l events and circumstances have determined a great deal of how I engage in
  relationship to others\, to myself\, and to spirit. This Sunday\, I'll te
 ll my story of familial trauma and reconciliation\, talk about my largely 
 self-guided process of healing\, and share some of the events\, revelation
 s\, and practices that have guided my unfolding\, liberating journey towar
 ds wholeness. WARNING: I will be sharing some events from my life that som
 e may find disturbing. Please make the best choice for you when deciding w
 hether to attend.' https://eruuf.org/calendar/calendar-view/event/6701-spi
 ritual-odyssey.html
DTSTART:20190728T130000Z
DTEND:20190728T140000Z
LOCATION:Commons Room   (4907 Garrett Rd\, Durham\, NC 27707  )
SUMMARY:Spiritual Odyssey
URL:https://eruuf.org/calendar/calendar-view/event/6701-spiritual-odyssey.h
 tml
END:VEVENT
END:VCALENDAR
