BEGIN:VCALENDAR
VERSION:2.0
PRODID:-//https://eruuf.org///NONSGML kigkonsult.se iCalcreator 2.10.15//
METHOD:PUBLISH
BEGIN:VEVENT
UID:20260422T115644UTC-7704we8P64@https://eruuf.org/
DTSTAMP:20260422T115644Z
DESCRIPTION:Back by popular demand\, ERUUF’s Spiritual Odyssey conversation
 s will occur each Sunday from June 9 to August 11. A beloved ERUUFian will
  present the story of her or his personal and/or spiritual quest. We’ll he
 ar about early childhood memories\, important forks in the road\, signific
 ant events\, and a few funny anecdotes along the way! We invite you to joi
 n us for an hour of storytelling and enlightenment as you get to know your
  fellowship friends better. Each Spiritual Odyssey will be followed by a p
 eriod of Q & A so that you can go deeper with the speaker.\n  This Sunday 
 - Henry Amador-Batten Follow the Yellow Brick Road https://eruuf.org/calen
 dar/calendar-view/event/6702-spiritual-odyssey.html
DTSTART:20190804T130000Z
DTEND:20190804T140000Z
LOCATION:Commons Room   (4907 Garrett Rd\, Durham\, NC 27707  )
SUMMARY:Spiritual Odyssey
URL:https://eruuf.org/calendar/calendar-view/event/6702-spiritual-odyssey.h
 tml
END:VEVENT
END:VCALENDAR
