BEGIN:VCALENDAR
VERSION:2.0
PRODID:-//https://eruuf.org///NONSGML kigkonsult.se iCalcreator 2.10.15//
METHOD:PUBLISH
BEGIN:VEVENT
UID:20260422T082047UTC-60860veOHp@https://eruuf.org/
DTSTAMP:20260422T082047Z
DESCRIPTION:CAN has activated its Voter Registration and GOTV team.  Anyone
  who wants to take part in this team may attend the training provided by Y
 ou Can Vote.    Contact the CAN office at 919-403-7082 if you wish to atte
 nd. https://eruuf.org/calendar/calendar-view/event/671-durham-can-gotv-tra
 ining.html
DTSTART:20160427T223000Z
DTEND:20160428T000000Z
LOCATION:Watts Street Baptist Church (800 Watts Street\, Durham\, NC 27701)
SUMMARY:Durham CAN GOTV training
URL:https://eruuf.org/calendar/calendar-view/event/671-durham-can-gotv-trai
 ning.html
END:VEVENT
END:VCALENDAR
