BEGIN:VCALENDAR
VERSION:2.0
PRODID:-//https://eruuf.org///NONSGML kigkonsult.se iCalcreator 2.10.15//
METHOD:PUBLISH
BEGIN:VEVENT
UID:20260424T232802UTC-9898CvpLNf@https://eruuf.org/
DTSTAMP:20260424T232802Z
DESCRIPTION:The Inquirers Series is offered to welcome and inform visitors 
 and friends about ERUUF. Members are welcome to these classes as well. You
  will converse with ministers\, staff\, and lay leaders as you learn about
  ERUUF’s values\, culture and ministries\, along with basics about Unitari
 an Universalism. Eight topics are covered\, one per session.  See Inquirer
 s Series. #FindingYourWay@ERUUF\nClass 7: Pastoral Care & Small Groups\nLe
 arn how we care for one another at ERUUF\, and how being involved with Cha
 lice Circles and Covenant Groups help us to connect. https://eruuf.org/cal
 endar/calendar-view/event/6710-inquirers-class.html
DTSTART:20190526T153500Z
DTEND:20190526T163500Z
LOCATION:Room 4/5   (4907 Garrett Rd\, Durham\, NC 27707   )
SUMMARY:Inquirers class
URL:https://eruuf.org/calendar/calendar-view/event/6710-inquirers-class.htm
 l
END:VEVENT
END:VCALENDAR
