BEGIN:VCALENDAR
VERSION:2.0
PRODID:-//https://eruuf.org///NONSGML kigkonsult.se iCalcreator 2.10.15//
METHOD:PUBLISH
BEGIN:VEVENT
UID:20260424T171052UTC-0972OIV9aH@https://eruuf.org/
DTSTAMP:20260424T171052Z
DESCRIPTION:Common Read follow-up discussion.  For more information contact
 \, Cheryl Turney\, cherylturney@yahoo.com. https://eruuf.org/calendar/cale
 ndar-view/event/6711-earth-justice-action-group.html
DTSTART:20190519T160000Z
DTEND:20190519T170000Z
LOCATION:Room 7 - CARE Building ()
SUMMARY:Earth Justice Action Group
URL:https://eruuf.org/calendar/calendar-view/event/6711-earth-justice-actio
 n-group.html
END:VEVENT
END:VCALENDAR
