BEGIN:VCALENDAR
VERSION:2.0
PRODID:-//https://eruuf.org///NONSGML kigkonsult.se iCalcreator 2.10.15//
METHOD:PUBLISH
BEGIN:VEVENT
UID:20260424T131621UTC-9015eTUu52@https://eruuf.org/
DTSTAMP:20260424T131621Z
DESCRIPTION: https://eruuf.org/calendar/calendar-view/event/6712-stewardshi
 p-steering-team.html
DTSTART:20190604T230000Z
DTEND:20190605T003000Z
LOCATION:Room 1 - CARE Building ()
SUMMARY:Stewardship Steering Team
URL:https://eruuf.org/calendar/calendar-view/event/6712-stewardship-steerin
 g-team.html
END:VEVENT
END:VCALENDAR
