BEGIN:VCALENDAR
VERSION:2.0
PRODID:-//https://eruuf.org///NONSGML kigkonsult.se iCalcreator 2.10.15//
METHOD:PUBLISH
BEGIN:VEVENT
UID:20260422T163045UTC-9231wIZuuh@https://eruuf.org/
DTSTAMP:20260422T163045Z
DESCRIPTION:Contact Kat Moran\, kat.mh.moran@gmail.com https://eruuf.org/ca
 lendar/calendar-view/event/672-hsyg-advisors.html
DTSTART:20160427T223000Z
DTEND:20160428T010000Z
LOCATION:Library - CARE Building ()
SUMMARY:HSYG Advisors
URL:https://eruuf.org/calendar/calendar-view/event/672-hsyg-advisors.html
END:VEVENT
END:VCALENDAR
