BEGIN:VCALENDAR
VERSION:2.0
PRODID:-//https://eruuf.org///NONSGML kigkonsult.se iCalcreator 2.10.15//
METHOD:PUBLISH
BEGIN:VEVENT
UID:20260424T192148UTC-3652gJVWBG@https://eruuf.org/
DTSTAMP:20260424T192148Z
DESCRIPTION:Durham CAN Police Community Relations Action and Press Conferen
 ce Tuesday\, April 26\, 5:30 pm 505 West Chapel Hill Street (in front of t
 he Durham Police Station across from Duke Memorial Church)  Support Durham
  CAN and Attend the press conference to present the priorities of Durham C
 AN in working with the future Durham Police Chief.  Contact: Cindy Henshaw
 \, crhenshaw@gmail.com or Rev. Cayer\, dcayer@eruuf.org.  Plan to arrive e
 arly. Traffic can be an issue at that location/time of day.               
   https://eruuf.org/calendar/calendar-view/event/673-durham-can-police-pre
 ss-conference.html
DTSTART:20160426T213000Z
DTEND:20160426T230000Z
LOCATION:Durham\, NC (505 W Chapel Hill St\, Durham\, NC 27701\, USA)
SUMMARY:Durham CAN Police Press Conference
URL:https://eruuf.org/calendar/calendar-view/event/673-durham-can-police-pr
 ess-conference.html
END:VEVENT
END:VCALENDAR
